BEGIN:VCALENDAR
VERSION:2.0
PRODID:-//The Clay Club - ECPv5.8.2//NONSGML v1.0//EN
CALSCALE:GREGORIAN
METHOD:PUBLISH
X-WR-CALNAME:The Clay Club
X-ORIGINAL-URL:https://theclayclub.co.za
X-WR-CALDESC:Events for The Clay Club
BEGIN:VTIMEZONE
TZID:UTC
BEGIN:STANDARD
TZOFFSETFROM:+0000
TZOFFSETTO:+0000
TZNAME:UTC
DTSTART:20250101T000000
END:STANDARD
END:VTIMEZONE
BEGIN:VEVENT
DTSTART;TZID=UTC:20250712T090000
DTEND;TZID=UTC:20250712T120000
DTSTAMP:20260421T085654
CREATED:20250702T124629Z
LAST-MODIFIED:20250702T124629Z
UID:5664-1752310800-1752321600@theclayclub.co.za
SUMMARY:PNA Pottery Workshop
DESCRIPTION:Pottery Workshop: Cheese Plate at PNA Castle Gate\n\n\n Saturday\, 12 July\n 9:00 – 12:00\n R450 p.p\n\n\nCraft your very own ceramic cheese board in this hands-on\, creative session with Ursula from The Clay Club. She’ll guide you through shaping\, texturing\, and decorating your piece before it’s glazed and fired — no experience needed!\n\n\nRelax\, create\, and leave with something beautiful and functional. All materials provided – just bring your enthusiasm and a friend or two!\n\n\n Hosted at The Studio | PNA Castle Gate Lifestyle\n Book by following the link: https://forms.gle/FuDzC68sQbZ1Xr4z7
URL:https://theclayclub.co.za/index.php/event/pna-pottery-workshop/
LOCATION:The Studio at PNA Castle Gate Lifestyle
END:VEVENT
END:VCALENDAR